BEGIN:VCALENDAR
VERSION:2.0
PRODID:-//Marin Rose Society - ECPv6.15.18//NONSGML v1.0//EN
CALSCALE:GREGORIAN
METHOD:PUBLISH
X-ORIGINAL-URL:https://www.marinrose.org
X-WR-CALDESC:Events for Marin Rose Society
REFRESH-INTERVAL;VALUE=DURATION:PT1H
X-Robots-Tag:noindex
X-PUBLISHED-TTL:PT1H
BEGIN:VTIMEZONE
TZID:America/Los_Angeles
BEGIN:DAYLIGHT
TZOFFSETFROM:-0800
TZOFFSETTO:-0700
TZNAME:PDT
DTSTART:20240310T100000
END:DAYLIGHT
BEGIN:STANDARD
TZOFFSETFROM:-0700
TZOFFSETTO:-0800
TZNAME:PST
DTSTART:20241103T090000
END:STANDARD
BEGIN:DAYLIGHT
TZOFFSETFROM:-0800
TZOFFSETTO:-0700
TZNAME:PDT
DTSTART:20250309T100000
END:DAYLIGHT
BEGIN:STANDARD
TZOFFSETFROM:-0700
TZOFFSETTO:-0800
TZNAME:PST
DTSTART:20251102T090000
END:STANDARD
BEGIN:DAYLIGHT
TZOFFSETFROM:-0800
TZOFFSETTO:-0700
TZNAME:PDT
DTSTART:20260308T100000
END:DAYLIGHT
BEGIN:STANDARD
TZOFFSETFROM:-0700
TZOFFSETTO:-0800
TZNAME:PST
DTSTART:20261101T090000
END:STANDARD
END:VTIMEZONE
BEGIN:VEVENT
DTSTART;TZID=America/Los_Angeles:20250823T090000
DTEND;TZID=America/Los_Angeles:20250823T110000
DTSTAMP:20260424T021746
CREATED:20250809T210508Z
LAST-MODIFIED:20250809T210508Z
UID:2114-1755939600-1755946800@www.marinrose.org
SUMMARY:Rethinking Late Summer & Fall Rose Health Strategies
DESCRIPTION:Speaker: Dr. Mark Windham\, Professor Emeritus of Plant Pathology\, The University of Tennessee Institute of Agriculture\n\nJoin us as Dr. Mark Windham shows us the way to encourage a healthy spring garden starts with actions in late summer and fall.  As the days get shorter\, rose foliage becomes less effective in converting energy to sugars. Leaves become nutrient sinks (use more nutrients than they produce via photosynthesis). Rose roots have become saturated with starch leading to a change in the rose’s physiology which triggers the slow transition toward dormancy. At this time\, plants become more susceptible to many diseases that can overwinter on canes or in debris on the soil surface.\nIn this seminar\, we will look at ways to maintain healthy roses as they begin the dormancy transition. Proper planning and direct actions in the fall will pay dividends for healthy roses the following spring. The seminar will look at cultural ways to successfully maintain rose health in both spray and no-spray gardens.\n\nCR CREDIT APPROVED\nhttps://register.gotowebinar.com/#register/7493080932168446812
URL:https://www.marinrose.org/event/rethinking-late-summer-fall-rose-health-strategies/
LOCATION:ARS Webinar
CATEGORIES:Webinar
ATTACH;FMTTYPE=image/jpeg:https://www.marinrose.org/wp-content/uploads/2025/08/Its_fall_even_for_the_prettiest_rose.WMC_-scaled.jpg
END:VEVENT
END:VCALENDAR